BEGIN:VCALENDAR
VERSION:2.0
PRODID:-//hacksw/handcal//NONSGML v1.0//EN
CALSCALE:GREGORIAN
X-WR-TIMEZONE:Europe/Paris
BEGIN:VEVENT
LOCATION:             Etincelle - Maison de quartier de la Jonction                      18bis\, av. Ste-Clotilde                            1205              Genève                  Suisse                                              
SUMMARY:Ils ont tout perdu... sauf leur humour !
URL;VALUE=URI:https://www.hesge.ch/hets/la-hets-geneve/notre-actualite/evenements/ils-ont-tout-perdu-sauf-leur-humour
DTSTART:20131113T193000
DTEND:20131113T210000
DTSTAMP:20260424T123146
UID:69eb46923bb5b
END:VEVENT
END:VCALENDAR