BEGIN:VCALENDAR
VERSION:2.0
PRODID:-//hacksw/handcal//NONSGML v1.0//EN
CALSCALE:GREGORIAN
X-WR-TIMEZONE:Europe/Paris
BEGIN:VEVENT
LOCATION:             Haute école de travail social                      Rue Prévost Martin 28                            1205              Genève                  Suisse                                              
SUMMARY:Des lieux d’exil à la condition cosmopolite. Réflexions à propos des situations de frontière
URL;VALUE=URI:https://www.hesge.ch/hets/la-hets-geneve/notre-actualite/evenements/des-lieux-dexil-condition-cosmopolite-reflexions-propos-des-situations-frontiere
DTSTART:20131126T121500
DTEND:20131126T133000
DTSTAMP:20260419T193112
UID:69e5116089d43
END:VEVENT
END:VCALENDAR