BEGIN:VCALENDAR
VERSION:2.0
PRODID:-//hacksw/handcal//NONSGML v1.0//EN
CALSCALE:GREGORIAN
X-WR-TIMEZONE:Europe/Paris
BEGIN:VEVENT
LOCATION:             CAWA - Bât. D - rez                      Rue Prévost-Martin 28                            1205              Genève                  Suisse                                              
SUMMARY:Présentation des nouvelles parutions des Editions ies
URL;VALUE=URI:https://www.hesge.ch/hets/la-hets-geneve/notre-actualite/evenements/presentation-des-nouvelles-parutions-des-editions-ies
DTSTART:20140121T171500
DTEND:20140121T203000
DTSTAMP:20260425T011544
UID:69ebf9a06ce1e
END:VEVENT
END:VCALENDAR