BEGIN:VCALENDAR
VERSION:2.0
PRODID:-//hacksw/handcal//NONSGML v1.0//EN
CALSCALE:GREGORIAN
X-WR-TIMEZONE:Europe/Paris
BEGIN:VEVENT
LOCATION:             Haute école de travail social - HETS                      Rue Prévost-Martin 28                  Bâtiment A - Salle A006                            1205              Genève                  Suisse                                              
SUMMARY:Forum romand sur l'interculturalité: "Venir d'ailleurs et vieillir ici?"
URL;VALUE=URI:https://www.hesge.ch/hets/la-hets-geneve/notre-actualite/evenements/forum-romand-linterculturalite-venir-dailleurs-vieillir-ici
DTSTART:20141002T083000
DTEND:20141002T170000
DTSTAMP:20260424T064727
UID:69eaf5dfe8d48
END:VEVENT
END:VCALENDAR