BEGIN:VCALENDAR
VERSION:2.0
PRODID:-//hacksw/handcal//NONSGML v1.0//EN
CALSCALE:GREGORIAN
X-WR-TIMEZONE:Europe/Paris
BEGIN:VEVENT
LOCATION:             HETS                      28\, rue Prévost-Martin                  Salle A006                                1205 Genève                  Suisse                                              
SUMMARY:Comment devient-on un homo oeconomicus ? Production\, gestion et utilisation des ressources financières par les jeunes
URL;VALUE=URI:https://www.hesge.ch/hets/la-hets-geneve/notre-actualite/evenements/comment-devient-homo-oeconomicus-production-gestion-utilisation-des-ressources-financieres-les
DTSTART:20141209T121500
DTEND:20141209T133000
DTSTAMP:20260425T151634
UID:69ecbeb22d887
END:VEVENT
END:VCALENDAR