BEGIN:VCALENDAR
VERSION:2.0
PRODID:-//hacksw/handcal//NONSGML v1.0//EN
CALSCALE:GREGORIAN
X-WR-TIMEZONE:Europe/Paris
BEGIN:VEVENT
LOCATION:             HETS Bâtiment E                      Rue du Pré-Jérôme 16                  Espace exposition - hall                            1205              Genève                  Suisse                                              
SUMMARY:30 portraits - 30 histoires de vie
URL;VALUE=URI:https://www.hesge.ch/hets/la-hets-geneve/notre-actualite/evenements/30-portraits-30-histoires-vie
DTSTART:20150119T090000
DTEND:20150401T190000
DTSTAMP:20260422T131147
UID:69e8acf31dd76
END:VEVENT
END:VCALENDAR