BEGIN:VCALENDAR
VERSION:2.0
PRODID:-//hacksw/handcal//NONSGML v1.0//EN
CALSCALE:GREGORIAN
X-WR-TIMEZONE:Europe/Paris
BEGIN:VEVENT
LOCATION:             Haute école de travail social\, Aula                      Rue Pré-Jérôme\, 16                            1205              Genève              GE              Suisse                                              
SUMMARY:Social Sciences and Humanities in H2020
URL;VALUE=URI:https://www.hesge.ch/hets/la-hets-geneve/notre-actualite/evenements/social-sciences-and-humanities-h2020
DTSTART:20151006T153000
DTEND:20151006T180000
DTSTAMP:20260425T030744
UID:69ec13e0880e5
END:VEVENT
END:VCALENDAR