BEGIN:VCALENDAR
VERSION:2.0
PRODID:-//hacksw/handcal//NONSGML v1.0//EN
CALSCALE:GREGORIAN
X-WR-TIMEZONE:Europe/Paris
BEGIN:VEVENT
LOCATION:             HETS\, bâtimetnt E\, salle E303                      Rue Pré-Jérôme\, 16                            1205              Genève                  Suisse                                              
SUMMARY:« Addictions\, interventions sociales et préventions »
URL;VALUE=URI:https://www.hesge.ch/hets/la-hets-geneve/notre-actualite/evenements/addictions-interventions-sociales-preventions
DTSTART:20160111T084500
DTEND:20160112T153000
DTSTAMP:20260422T114859
UID:69e8998b7bf6c
END:VEVENT
END:VCALENDAR