BEGIN:VCALENDAR
VERSION:2.0
PRODID:-//hacksw/handcal//NONSGML v1.0//EN
CALSCALE:GREGORIAN
X-WR-TIMEZONE:Europe/Paris
BEGIN:VEVENT
LOCATION:             Haute école de travail social                      28\, rue Prévost-Martin                  Bâtiment A\, salle A006                            CP 80 1211              Genève              GE              Suisse                                              
SUMMARY:Luttes sociales et de revendications mémorielles: mise en scène d’un pèlerinage et d’une « cérémonie de l’eau »
URL;VALUE=URI:https://www.hesge.ch/hets/la-hets-geneve/notre-actualite/evenements/luttes-sociales-revendications-memorielles-mise-scene-dun-pelerinage-dune-ceremonie-leau
DTSTART:20160126T121500
DTEND:20160126T134500
DTSTAMP:20260423T160442
UID:69ea26fa70f7c
END:VEVENT
END:VCALENDAR