BEGIN:VCALENDAR
VERSION:2.0
PRODID:-//hacksw/handcal//NONSGML v1.0//EN
CALSCALE:GREGORIAN
X-WR-TIMEZONE:Europe/Paris
BEGIN:VEVENT
LOCATION:             Haute école de travail social (HETS) - Aula E007                      16\, rue du Pré-Jérôme                            1205              Genève                  Suisse                                              
SUMMARY:Dynamiques des systèmes éducatifs modernes: entre culture des résultats et intégration de nouveaux publics scolaires
URL;VALUE=URI:https://www.hesge.ch/hets/la-hets-geneve/notre-actualite/evenements/dynamiques-des-systemes-educatifs-modernes-entre-culture-des-resultats-integration-nouveaux-publics
DTSTART:20160504T180000
DTEND:20160504T200000
DTSTAMP:20260421T063532
UID:69e6fe9439921
END:VEVENT
END:VCALENDAR