BEGIN:VCALENDAR
VERSION:2.0
PRODID:-//hacksw/handcal//NONSGML v1.0//EN
CALSCALE:GREGORIAN
X-WR-TIMEZONE:Europe/Paris
BEGIN:VEVENT
LOCATION:             Haute école de travail social (HETS) - Salle A006                      Rue Prévost-Martin 28                            1205              Genève                  Suisse                                              
SUMMARY:Les directeurs et directrices au travail
URL;VALUE=URI:https://www.hesge.ch/hets/la-hets-geneve/notre-actualite/evenements/les-directeurs-directrices-au-travail
DTSTART:20170125T173000
DTEND:20170125T190000
DTSTAMP:20260425T181239
UID:69ece7f7c5e5c
END:VEVENT
END:VCALENDAR