BEGIN:VCALENDAR
VERSION:2.0
PRODID:-//hacksw/handcal//NONSGML v1.0//EN
CALSCALE:GREGORIAN
X-WR-TIMEZONE:Europe/Paris
BEGIN:VEVENT
LOCATION:             Pitoëff                      Maison Communale de Plainpalais                  52 Rue de Carouge                            1205              Genève                  Suisse                                              
SUMMARY:Les Editions ies au FIFDH
URL;VALUE=URI:https://www.hesge.ch/hets/la-hets-geneve/notre-actualite/evenements/les-editions-ies-au-fifdh
DTSTART:20170310T110000
DTEND:20170319T220000
DTSTAMP:20260425T213650
UID:69ed17d234579
END:VEVENT
END:VCALENDAR