BEGIN:VCALENDAR
VERSION:2.0
PRODID:-//hacksw/handcal//NONSGML v1.0//EN
CALSCALE:GREGORIAN
X-WR-TIMEZONE:Europe/Paris
BEGIN:VEVENT
LOCATION:             CAWA\, Bât. C\, HETS – Genève                      Rue Prévost-Martin 28                            1205              Genève                  Suisse                                              
SUMMARY:Traceurs de chemin
URL;VALUE=URI:https://www.hesge.ch/hets/la-hets-geneve/notre-actualite/evenements/traceurs-chemin
DTSTART:20180227T180000
DTEND:20180227T193000
DTSTAMP:20260424T051930
UID:69eae1423b715
END:VEVENT
END:VCALENDAR