BEGIN:VCALENDAR
VERSION:2.0
PRODID:-//hacksw/handcal//NONSGML v1.0//EN
CALSCALE:GREGORIAN
X-WR-TIMEZONE:Europe/Paris
BEGIN:VEVENT
LOCATION:             Palais des Nations                      Avenue de la Paix 14                            1202              Genève              GE              Suisse                                              
SUMMARY:Journée internationale du travail social 2018
URL;VALUE=URI:https://www.hesge.ch/hets/la-hets-geneve/notre-actualite/evenements/journee-internationale-du-travail-social-2018
DTSTART:20180320T093000
DTEND:20180321T173000
DTSTAMP:20260421T114723
UID:69e747aba2559
END:VEVENT
END:VCALENDAR