BEGIN:VCALENDAR
VERSION:2.0
PRODID:-//hacksw/handcal//NONSGML v1.0//EN
CALSCALE:GREGORIAN
X-WR-TIMEZONE:Europe/Paris
BEGIN:VEVENT
LOCATION:             Palexpo - Palais des Expositions et des Congrès                      Halles 1 & 2                  Stand A171                                Genève                  Suisse                                              
SUMMARY:Les Editions ies au Salon du livre de Genève 2018
URL;VALUE=URI:https://www.hesge.ch/hets/la-hets-geneve/notre-actualite/evenements/les-editions-ies-au-salon-du-livre-geneve-2018
DTSTART:20180425T093000
DTEND:20180429T190000
DTSTAMP:20260425T023957
UID:69ec0d5d54ca8
END:VEVENT
END:VCALENDAR