BEGIN:VCALENDAR
VERSION:2.0
PRODID:-//hacksw/handcal//NONSGML v1.0//EN
CALSCALE:GREGORIAN
X-WR-TIMEZONE:Europe/Paris
BEGIN:VEVENT
LOCATION:             HETS bât. E                                                            
SUMMARY:La Malle aux trésors
URL;VALUE=URI:https://www.hesge.ch/hets/la-hets-geneve/notre-actualite/evenements/malle-aux-tresors-3
DTSTART:20181011T100000
DTEND:20181011T113000
DTSTAMP:20260422T201938
UID:69e9113aead15
END:VEVENT
END:VCALENDAR