BEGIN:VCALENDAR
VERSION:2.0
PRODID:-//hacksw/handcal//NONSGML v1.0//EN
CALSCALE:GREGORIAN
X-WR-TIMEZONE:Europe/Paris
BEGIN:VEVENT
LOCATION:             MCP - Grande salle                                                            
SUMMARY:Les Grandes marches
URL;VALUE=URI:https://www.hesge.ch/hets/la-hets-geneve/notre-actualite/evenements/les-grandes-marches
DTSTART:20181012T200000
DTEND:20181013T020000
DTSTAMP:20260420T072655
UID:69e5b91fe982d
END:VEVENT
END:VCALENDAR