BEGIN:VCALENDAR
VERSION:2.0
PRODID:-//hacksw/handcal//NONSGML v1.0//EN
CALSCALE:GREGORIAN
X-WR-TIMEZONE:Europe/Paris
BEGIN:VEVENT
LOCATION:             MCP - Guinguette                                                            
SUMMARY:Rox
URL;VALUE=URI:https://www.hesge.ch/hets/la-hets-geneve/notre-actualite/evenements/rox
DTSTART:20181012T210000
DTEND:20181012T220000
DTSTAMP:20260420T102606
UID:69e5e31ed0d55
END:VEVENT
END:VCALENDAR