BEGIN:VCALENDAR
VERSION:2.0
PRODID:-//hacksw/handcal//NONSGML v1.0//EN
CALSCALE:GREGORIAN
X-WR-TIMEZONE:Europe/Paris
BEGIN:VEVENT
LOCATION:             MCP - Guinguette                                                            
SUMMARY:Senti' & Guests
URL;VALUE=URI:https://www.hesge.ch/hets/la-hets-geneve/notre-actualite/evenements/senti-guests
DTSTART:20181012T221500
DTEND:20181012T231500
DTSTAMP:20260419T141224
UID:69e4c6a885fef
END:VEVENT
END:VCALENDAR