BEGIN:VCALENDAR
VERSION:2.0
PRODID:-//hacksw/handcal//NONSGML v1.0//EN
CALSCALE:GREGORIAN
X-WR-TIMEZONE:Europe/Paris
BEGIN:VEVENT
LOCATION:             HETS - Bâtiment E (Aula E007)                      Rue du Pré-Jérôme 16                            1205              Genève              GE              Suisse                                              
SUMMARY:Accompagner les mineur.e.s migrant.e.s : défis et enjeux
URL;VALUE=URI:https://www.hesge.ch/hets/la-hets-geneve/notre-actualite/evenements/accompagner-les-mineures-migrantes-defis-enjeux
DTSTART:20181213T180000
DTEND:20181213T203000
DTSTAMP:20260421T050923
UID:69e6ea63ae149
END:VEVENT
END:VCALENDAR