BEGIN:VCALENDAR
VERSION:2.0
PRODID:-//hacksw/handcal//NONSGML v1.0//EN
CALSCALE:GREGORIAN
X-WR-TIMEZONE:Europe/Paris
BEGIN:VEVENT
LOCATION:             HETS - Hall du bâtiment E                      16\, Rue du Pré-Jérôme                                        Suisse                                              
SUMMARY:Exposition Voie F
URL;VALUE=URI:https://www.hesge.ch/hets/la-hets-geneve/notre-actualite/evenements/exposition-voie-f
DTSTART:20191031T080000
DTEND:20191110T180000
DTSTAMP:20260420T065511
UID:69e5b1afd94ea
END:VEVENT
END:VCALENDAR