BEGIN:VCALENDAR
VERSION:2.0
PRODID:-//hacksw/handcal//NONSGML v1.0//EN
CALSCALE:GREGORIAN
X-WR-TIMEZONE:Europe/Paris
BEGIN:VEVENT
LOCATION:             HETS Genève\, Bâtiment A\, Salle A006                      Rue Prévost-Martin 28                            1205              Genève                  Suisse                                              
SUMMARY:Du burnout au bonheur au travail
URL;VALUE=URI:https://www.hesge.ch/hets/la-hets-geneve/notre-actualite/evenements/du-burnout-au-bonheur-au-travail
DTSTART:20191118T171500
DTEND:20191118T184500
DTSTAMP:20260424T205738
UID:69ebbd22114c2
END:VEVENT
END:VCALENDAR