BEGIN:VCALENDAR
VERSION:2.0
PRODID:-//hacksw/handcal//NONSGML v1.0//EN
CALSCALE:GREGORIAN
X-WR-TIMEZONE:Europe/Paris
BEGIN:VEVENT
LOCATION:             Haute école de travail social de Genève - Aula E007                      Rue du Pré-Jérôme 16                            1205              Genève                  Suisse                                              
SUMMARY:La médiation pénale et la justice restaurative : regards croisés de deux procureurs généraux
URL;VALUE=URI:https://www.hesge.ch/hets/la-hets-geneve/notre-actualite/evenements/mediation-penale-justice-restaurative-regards-croises-deux-procureurs-generaux
DTSTART:20191128T181500
DTEND:20191128T213000
DTSTAMP:20260423T064338
UID:69e9a37a3b90f
END:VEVENT
END:VCALENDAR