BEGIN:VCALENDAR
VERSION:2.0
PRODID:-//hacksw/handcal//NONSGML v1.0//EN
CALSCALE:GREGORIAN
X-WR-TIMEZONE:Europe/Paris
BEGIN:VEVENT
LOCATION:             HETS - Hall du bâtiment E                      rue Pré-Jérôme 16                            1205              Genève                  Suisse                                              
SUMMARY:Itinéraires entrecoupés - Les visages de l'aide sociale
URL;VALUE=URI:https://www.hesge.ch/hets/la-hets-geneve/notre-actualite/evenements/itineraires-entrecoupes-les-visages-laide-sociale
DTSTART:20200921T090000
DTEND:20201002T180000
DTSTAMP:20260423T144506
UID:69ea145269833
END:VEVENT
END:VCALENDAR