BEGIN:VCALENDAR
VERSION:2.0
PRODID:-//hacksw/handcal//NONSGML v1.0//EN
CALSCALE:GREGORIAN
X-WR-TIMEZONE:Europe/Paris
BEGIN:VEVENT
LOCATION:             Les 4 Coins                      Rue de Carouge 44                            1205              Genève                  Suisse                                              
SUMMARY:L’éducation sexuelle au prisme des droits humains
URL;VALUE=URI:https://www.hesge.ch/hets/la-hets-geneve/notre-actualite/evenements/leducation-sexuelle-au-prisme-des-droits-humains
DTSTART:20211019T173000
DTEND:20211019T193000
DTSTAMP:20260420T023228
UID:69e5741cef288
END:VEVENT
END:VCALENDAR