BEGIN:VCALENDAR
VERSION:2.0
PRODID:-//hacksw/handcal//NONSGML v1.0//EN
CALSCALE:GREGORIAN
X-WR-TIMEZONE:Europe/Paris
BEGIN:VEVENT
LOCATION:             Ressources Urbaines | 1er étage                      Espace culturel des Saules                  Sentier des Saules 3                            1205              Genève                  Suisse                                              
SUMMARY:Célébrations pour la sortie du livre Présences de Tagore de Joëlle Libois
URL;VALUE=URI:https://www.hesge.ch/hets/la-hets-geneve/notre-actualite/evenements/celebrations-sortie-du-livre-presences-tagore-joelle-libois
DTSTART:20220325T173000
DTEND:20220325T203000
DTSTAMP:20260420T083720
UID:69e5c9a093cde
END:VEVENT
END:VCALENDAR