BEGIN:VCALENDAR
VERSION:2.0
PRODID:-//hacksw/handcal//NONSGML v1.0//EN
CALSCALE:GREGORIAN
X-WR-TIMEZONE:Europe/Paris
BEGIN:VEVENT
LOCATION:             Haute école de travail social de Genève                      Rue Pré-Jérôme 16                  Bâtiment E\, Aula                            1205              Genève                  Suisse                                              
SUMMARY:L’expérience de la parole
URL;VALUE=URI:https://www.hesge.ch/hets/la-hets-geneve/notre-actualite/evenements/lexperience-parole
DTSTART:20220506T153000
DTEND:20220506T170000
DTSTAMP:20260422T155425
UID:69e8d311d48dc
END:VEVENT
END:VCALENDAR