BEGIN:VCALENDAR
VERSION:2.0
PRODID:-//hacksw/handcal//NONSGML v1.0//EN
CALSCALE:GREGORIAN
X-WR-TIMEZONE:Europe/Paris
BEGIN:VEVENT
LOCATION:             Université de Fribourg (et en ligne)                              Suisse                                              
SUMMARY:Race and Racism: putting Switzerland on the Map
URL;VALUE=URI:https://www.hesge.ch/hets/la-hets-geneve/notre-actualite/evenements/race-and-racism-putting-switzerland-map
DTSTART:20220602T181500
DTEND:20220603T181500
DTSTAMP:20260424T164041
UID:69eb80e9af012
END:VEVENT
END:VCALENDAR