BEGIN:VCALENDAR
VERSION:2.0
PRODID:-//hacksw/handcal//NONSGML v1.0//EN
CALSCALE:GREGORIAN
X-WR-TIMEZONE:Europe/Paris
BEGIN:VEVENT
LOCATION:HETS-Genève\, bât. E\, aula E007Rue du Pré-Jérôme 161205 GenèveSuisse
SUMMARY:Séance d'info Bachelor en Travail social
URL;VALUE=URI:https://www.hesge.ch/hets/la-hets-geneve/notre-actualite/evenements/seance-dinfo-bachelor-travail-social-1
DESCRIPTION:-

DTSTART:20221101T173000
DTEND:20221101T190000
DTSTAMP:20260425T135224
UID:69ecaaf890f73
END:VEVENT
END:VCALENDAR