BEGIN:VCALENDAR
VERSION:2.0
PRODID:-//hacksw/handcal//NONSGML v1.0//EN
CALSCALE:GREGORIAN
X-WR-TIMEZONE:Europe/Paris
BEGIN:VEVENT
LOCATION:             HETS-Genève\, bât. A\, salle A006                      28\, rue Prévost-Martin                            1205              Genève                  Suisse                                              
SUMMARY:Master en travail social
URL;VALUE=URI:https://www.hesge.ch/hets/la-hets-geneve/notre-actualite/evenements/master-travail-social
DTSTART:20230119T171500
DTEND:20230119T181500
DTSTAMP:20260425T225920
UID:69ed2b2866240
END:VEVENT
END:VCALENDAR