BEGIN:VCALENDAR
VERSION:2.0
PRODID:-//hacksw/handcal//NONSGML v1.0//EN
CALSCALE:GREGORIAN
X-WR-TIMEZONE:Europe/Paris
BEGIN:VEVENT
LOCATION:HETS-Genève\, bâtiment ERue du Pré-Jérôme 161205 GenèveInterventions réparties dans différentes salles tout au long de la journée
SUMMARY:Parlons animation !
URL;VALUE=URI:https://www.hesge.ch/hets/la-hets-geneve/notre-actualite/evenements/parlons-animation
DESCRIPTION:Les étudiant·es du Bachelor en travail social\, option animation socioculturelle\, proposent la deuxième édition de “Parlons Animation”\, un événement conçu comme un temps fort de rencontres\, de réflexions et de partages autour des pratiques de l’animation socioculturelle.

DTSTART:20260526T083000
DTEND:20260526T150000
DTSTAMP:20260424T041217
UID:69ead181be18e
END:VEVENT
END:VCALENDAR