BEGIN:VCALENDAR
VERSION:2.0
PRODID:-//hacksw/handcal//NONSGML v1.0//EN
CALSCALE:GREGORIAN
X-WR-TIMEZONE:Europe/Paris
BEGIN:VEVENT
LOCATION:Pavillon Sicli - Pavillon Simone WeilRoute des Acacias 451227 Les Acacias 
SUMMARY:Produire la ville inclusive : expériences\, défis et participation citoyenne
URL;VALUE=URI:https://www.hesge.ch/hets/la-hets-geneve/notre-actualite/evenements/produire-la-ville-inclusive-experiences-defis-participation-citoyenne
DESCRIPTION:Le réseau Quartier Commun\, en partenariat avec le Festival EXPLORE\, propose une table ronde sur les conditions de production de la ville inclusive et les moyens à disposition ou à créer pour y contribuer.

DTSTART:20260508T140000
DTEND:20260508T163000
DTSTAMP:20260422T113515
UID:69e8965372b66
END:VEVENT
END:VCALENDAR