BEGIN:VCALENDAR
VERSION:2.0
PRODID:-//hacksw/handcal//NONSGML v1.0//EN
CALSCALE:GREGORIAN
X-WR-TIMEZONE:Europe/Paris
BEGIN:VEVENT
LOCATION:La Voie LactéeRue des Arpenteurs 71217 Meyrin
SUMMARY:Présentation publique de l’ouvrage "Résister\, s’engager\, rêver " à La Voie Lactée
URL;VALUE=URI:https://www.hesge.ch/hets/la-hets-geneve/notre-actualite/evenements/presentation-publique-ouvrage-resister-s%27engager-rever-la-voie-lactee
DESCRIPTION:Résistons\, engageons-nous\, rêvons! Une école pour changer le monde

&nbsp\;

DTSTART:20260602T180000
DTEND:20260602T200000
DTSTAMP:20260423T004345
UID:69e94f21c3e5a
END:VEVENT
END:VCALENDAR