BEGIN:VCALENDAR
VERSION:2.0
PRODID:-//hacksw/handcal//NONSGML v1.0//EN
CALSCALE:GREGORIAN
X-WR-TIMEZONE:Europe/Paris
BEGIN:VEVENT
LOCATION:HETS\, infothèque\, Bât. E\, 1er étageRue Pré-Jérôme 161205&nbsp\;Genève
SUMMARY:Présentation publique de l’ouvrage "Résister\, s’engager\, rêver "
URL;VALUE=URI:https://www.hesge.ch/hets/la-hets-geneve/notre-actualite/evenements/presentation-publique-ouvrage-resister-s%27engager-rever
DESCRIPTION:Résistons\, engageons-nous\, rêvons! Une école pour changer le monde

&nbsp\;

DTSTART:20260512T180000
DTEND:20260512T200000
DTSTAMP:20260423T164840
UID:69ea3148130bb
END:VEVENT
END:VCALENDAR