BEGIN:VCALENDAR
VERSION:2.0
PRODID:-//hacksw/handcal//NONSGML v1.0//EN
CALSCALE:GREGORIAN
X-WR-TIMEZONE:Europe/Paris
BEGIN:VEVENT
LOCATION:HETS-GenèveBât.E\, salle E108Rue du Pré-Jérôme 161205 Genève
SUMMARY:Influence des espaces publics sur l’accompagnement du travail social hors mur à partir du prisme des jeunes
URL;VALUE=URI:https://www.hesge.ch/hets/la-hets-geneve/notre-actualite/evenements/influence-des-espaces-publics-accompagnement-du-travail-social-hors-mur-partir-du-prisme-des-jeunes
DESCRIPTION:Soutenance du travail de Bachelor d'Antoine ROSSIAUD\, orientation Animation socioculturelle (PT-23) et&nbsp\;Sara FERNANDES-GRACIO BERNARDINO\, orientation Animation socioculturelle (PT-23).

DTSTART:20260424T100000
DTEND:20260424T120000
DTSTAMP:20260425T213740
UID:69ed1804389fe
END:VEVENT
END:VCALENDAR