BEGIN:VCALENDAR
VERSION:2.0
PRODID:-//hacksw/handcal//NONSGML v1.0//EN
CALSCALE:GREGORIAN
X-WR-TIMEZONE:Europe/Paris
BEGIN:VEVENT
LOCATION:HETS-Genève\, bât. C\, salle C004Rue Prévost-Martin 281205 Genève
SUMMARY:Séminaire Intermigra
URL;VALUE=URI:https://www.hesge.ch/hets/la-hets-geneve/notre-actualite/evenements/seminaire-intermigra-4
DESCRIPTION:Troisième séminaire&nbsp\;Intermigra&nbsp\;du printemps 2026 avec&nbsp\;Aadarsh Gangwar (Graduate Institute) et&nbsp\;Jonathan Miaz (Université de Lausanne).

DTSTART:20260506T173000
DTEND:20260506T190000
DTSTAMP:20260421T033324
UID:69e6d3e42a8ea
END:VEVENT
END:VCALENDAR