BEGIN:VCALENDAR
VERSION:2.0
PRODID:-//hacksw/handcal//NONSGML v1.0//EN
CALSCALE:GREGORIAN
X-WR-TIMEZONE:Europe/Paris
BEGIN:VEVENT
LOCATION:HETS-Genève\, bât. E\, salle E206Rue du Pré-Jérôme 161205 Genève
SUMMARY:Atelier de l'OPEJF « Être sans-abri à Genève. Ruptures familiales et sociales précoces »
URL;VALUE=URI:https://www.hesge.ch/hets/la-hets-geneve/notre-actualite/evenements/atelier-opejf-etre-sans-abri-geneve-ruptures-familiales-sociales-precoces
DESCRIPTION:Atelier de recherche avec Mélanie Pinon\, adjointe scientifique HEdS et coordinatrice des soins pour les hébergements d’urgence à Genève\, HUG.

DTSTART:20241104T121500
DTEND:20241104T131500
DTSTAMP:20260420T072636
UID:69e5b90c522e9
END:VEVENT
END:VCALENDAR