BEGIN:VCALENDAR
VERSION:2.0
PRODID:-//hacksw/handcal//NONSGML v1.0//EN
CALSCALE:GREGORIAN
X-WR-TIMEZONE:Europe/Paris
BEGIN:VEVENT
LOCATION:HETS-GenèveRue Prévost-Martin 28
SUMMARY:3ème séminaire du Labo Intermigra (automne 2024)
URL;VALUE=URI:https://www.hesge.ch/hets/la-hets-geneve/notre-actualite/evenements/3eme-seminaire-du-labo-intermigra-automne-2024
DESCRIPTION:3ème séminaire du Laboratoire Intermigra (automne 2024) avec Aurélia Ishitsuka (Université de Genève) et Minhua Ling (Geneva Graduate Institute)

DTSTART:20241204T173000
DTEND:20241204T190000
DTSTAMP:20260419T175952
UID:69e4fbf8d1c4c
END:VEVENT
END:VCALENDAR