BEGIN:VCALENDAR
VERSION:2.0
PRODID:-//hacksw/handcal//NONSGML v1.0//EN
CALSCALE:GREGORIAN
X-WR-TIMEZONE:Europe/Paris
BEGIN:VEVENT
LOCATION:HETS-Genève\, bât. C\, salle C004Rue Prévost-Martin 28
SUMMARY:2ème séminaire du Labo Intermigra (automne 2024)
URL;VALUE=URI:https://www.hesge.ch/hets/la-hets-geneve/notre-actualite/evenements/2eme-seminaire-du-labo-intermigra-automne-2024
DESCRIPTION:2ème séminaire du Laboratoire Intermigra (automne 2024) avec Laurence Ossipow (Haute école de travail social Genève) et Théogène-Octave Gakuba (Haute école de travail social Genève)

DTSTART:20241106T173000
DTEND:20241106T190000
DTSTAMP:20260424T175648
UID:69eb92c04320f
END:VEVENT
END:VCALENDAR