BEGIN:VCALENDAR
VERSION:2.0
PRODID:-//hacksw/handcal//NONSGML v1.0//EN
CALSCALE:GREGORIAN
X-WR-TIMEZONE:Europe/Paris
BEGIN:VEVENT
LOCATION:HETS-GenèveRue du Pré-Jérôme 16\, Genève1205 Genève
SUMMARY:Quand les jeunes parlent… Qu'en dira-t-on?
URL;VALUE=URI:https://www.hesge.ch/hets/la-hets-geneve/notre-actualite/evenements/quand-les-jeunes-parlent-dira-t
DESCRIPTION:Les jeunes accompagné·es par des professionnel·les du travail social – que ce soit en foyer\, en maison de quartier\, dans diverses structures spécialisées – ont des choses à nous dire. Sait-on les écouter&nbsp\;? Et que fait-on de leur parole\, lorsqu’ils la prennent&nbsp\;? Lors de cette journée\, qui fera une large place aux témoignages de jeunes\, nous questionnerons nos représentations de la jeunesse d’aujourd’hui et discuterons des diverses méthodes et postures professionnelles pour écouter et accompagner les 15-25 ans.

DTSTART:20241009T090000
DTEND:20241009T170000
DTSTAMP:20260423T164815
UID:69ea312f0c6c2
END:VEVENT
END:VCALENDAR