BEGIN:VCALENDAR
VERSION:2.0
PRODID:-//hacksw/handcal//NONSGML v1.0//EN
CALSCALE:GREGORIAN
X-WR-TIMEZONE:Europe/Paris
BEGIN:VEVENT
LOCATION:Haute école de travail socialBât. A\, salle A00628\, rue Prévost-Martin1211 Genève 4
SUMMARY:Ateliers participatifs : Accès à une alimentation durable pour toutes et tous
URL;VALUE=URI:https://www.hesge.ch/hets/la-hets-geneve/notre-actualite/evenements/ateliers-participatifs-acces-alimentation-durable-toutes-tous
DESCRIPTION:Ces ateliers participatifs ont pour but de restituer les résultats intermédiaires du projet de recherche "Alimentation durable et précarité dans la région genevoise: une approche par la justice alimentaire" mené par Lucia Bordone (HETS-Genève) en collaboration avec l'HEPIA et la HEdS.

DTSTART:20230921T173000
DTEND:20230921T203000
DTSTAMP:20260424T193327
UID:69eba9670f95e
END:VEVENT
END:VCALENDAR