BEGIN:VCALENDAR
VERSION:2.0
PRODID:-//hacksw/handcal//NONSGML v1.0//EN
CALSCALE:GREGORIAN
X-WR-TIMEZONE:Europe/Paris
BEGIN:VEVENT
LOCATION:Visions du RéelPlace du Marché 2CH–1260 Nyon
SUMMARY:Visions du Réel 2026 : Entre projet pédagogique et rayonnement international
URL;VALUE=URI:https://www.hesge.ch/geneve/evenements/visions-du-reel-2026-entre-projet-pedagogique-rayonnement-international
DTSTART:20260423T183000
DTEND:20260423T220000
DTSTAMP:20260422T113510
UID:69e8964e563d2
END:VEVENT
END:VCALENDAR