BEGIN:VCALENDAR
VERSION:2.0
PRODID:-//hacksw/handcal//NONSGML v1.0//EN
CALSCALE:GREGORIAN
X-WR-TIMEZONE:Europe/Paris
BEGIN:VEVENT
LOCATION:Alcova BaggioMilitary Hospital ComplexVia Giovanni Labus 15\, 20147 Milano
SUMMARY:La HEAD à la Milano Design Week
URL;VALUE=URI:https://www.hesge.ch/geneve/evenements/la-head-la-milano-design-week
DTSTART:20260420T110000
DTEND:20260426T190000
DTSTAMP:20260423T053903
UID:69e99457bdc88
END:VEVENT
END:VCALENDAR