BEGIN:VCALENDAR
VERSION:2.0
PRODID:-//hacksw/handcal//NONSGML v1.0//EN
CALSCALE:GREGORIAN
X-WR-TIMEZONE:Europe/Paris
BEGIN:VEVENT
LOCATION:HEPIA - salle B.1.16Rue de la Prairie 41202 GenèveSuisse
SUMMARY:De la molécule au chef-d’œuvre\, les défis intemporels de l’esthétisme horloger
URL;VALUE=URI:https://www.hesge.ch/geneve/evenements/la-molecule-au-chef-oeuvre-les-defis-intemporels-esthetisme-horloger
DTSTART:20260521T180000
DTEND:20260521T193000
DTSTAMP:20260421T201044
UID:69e7bda45540f
END:VEVENT
END:VCALENDAR