BEGIN:VCALENDAR
VERSION:2.0
PRODID:-//hacksw/handcal//NONSGML v1.0//EN
CALSCALE:GREGORIAN
X-WR-TIMEZONE:Europe/Paris
BEGIN:VEVENT
LOCATION:HEM Dufour
SUMMARY:Sadiq & Zahir Khan Langa 
URL;VALUE=URI:https://www.hesge.ch/geneve/evenements/sadiq-zahir-khan-langa
DTSTART:20260428T140000
DTEND:20260428T170000
DTSTAMP:20260419T203844
UID:69e5213449526
END:VEVENT
END:VCALENDAR