BEGIN:VCALENDAR
VERSION:2.0
PRODID:-//hacksw/handcal//NONSGML v1.0//EN
CALSCALE:GREGORIAN
X-WR-TIMEZONE:Europe/Paris
BEGIN:VEVENT
LOCATION:HEM Dufour
SUMMARY:Quatuor Belcea
URL;VALUE=URI:https://www.hesge.ch/geneve/evenements/quatuor-belcea-1
DTSTART:20260425T110000
DTEND:20260427T120000
DTSTAMP:20260425T131036
UID:69eca12c9c9cb
END:VEVENT
END:VCALENDAR