BEGIN:VCALENDAR
VERSION:2.0
PRODID:-//hacksw/handcal//NONSGML v1.0//EN
CALSCALE:GREGORIAN
X-WR-TIMEZONE:Europe/Paris
BEGIN:VEVENT
LOCATION:HEM Dufour / HEM Stand&nbsp\;&nbsp\;
SUMMARY:Ben Goldscheider
URL;VALUE=URI:https://www.hesge.ch/geneve/evenements/ben-goldscheider
DTSTART:20260426T090000
DTSTAMP:20260425T131046
UID:69eca13691e89
END:VEVENT
END:VCALENDAR