BEGIN:VCALENDAR
VERSION:2.0
PRODID:-//hacksw/handcal//NONSGML v1.0//EN
CALSCALE:GREGORIAN
X-WR-TIMEZONE:Europe/Paris
BEGIN:VEVENT
LOCATION:HETS-Genève\, bât. F. salle F 002Rue des Voisins 301205 Genève
SUMMARY:« Travailler l’alliance » : les enjeux de l’intervention socio-sanitaire en milieu ordinaire
URL;VALUE=URI:https://www.hesge.ch/geneve/evenements/travailler-alliance-les-enjeux-intervention-socio-sanitaire-milieu-ordinaire
DTSTART:20260427T130000
DTEND:20260427T180000
DTSTAMP:20260425T230131
UID:69ed2bab049fe
END:VEVENT
END:VCALENDAR