BEGIN:VCALENDAR
VERSION:2.0
PRODID:-//hacksw/handcal//NONSGML v1.0//EN
CALSCALE:GREGORIAN
X-WR-TIMEZONE:Europe/Paris
BEGIN:VEVENT
LOCATION:HEG-Genève
SUMMARY: Le dilemme des entreprises ultrasûres - Sécurité sans accidents : mythe du succès ou angle mort du risque ? 
URL;VALUE=URI:https://www.hesge.ch/geneve/evenements/le-dilemme-des-entreprises-ultrasures-securite-sans-accidents-mythe-du-succes-ou-angle-mort-du
DTSTART:20260319T180000
DTEND:20260319T190000
DTSTAMP:20260420T031050
UID:69e57d1ab03c2
END:VEVENT
END:VCALENDAR