BEGIN:VCALENDAR
VERSION:2.0
PRODID:-//hacksw/handcal//NONSGML v1.0//EN
CALSCALE:GREGORIAN
X-WR-TIMEZONE:Europe/Paris
BEGIN:VEVENT
LOCATION:HEM Dufour\, salle 10
SUMMARY:Quatuor Belcea
URL;VALUE=URI:https://www.hesge.ch/geneve/evenements/quatuor-belcea-0
DTSTART:20260427T120000
DTEND:20260427T130000
DTSTAMP:20260423T064648
UID:69e9a438e2fb9
END:VEVENT
END:VCALENDAR